BEGIN:VCALENDAR
VERSION:2.0
PRODID:-//Commune de Nampont-Saint-Martin - ECPv6.15.20//NONSGML v1.0//EN
CALSCALE:GREGORIAN
METHOD:PUBLISH
X-WR-CALNAME:Commune de Nampont-Saint-Martin
X-ORIGINAL-URL:https://www.mairie-nampontstmartin.fr
X-WR-CALDESC:Évènements pour Commune de Nampont-Saint-Martin
REFRESH-INTERVAL;VALUE=DURATION:PT1H
X-Robots-Tag:noindex
X-PUBLISHED-TTL:PT1H
BEGIN:VTIMEZONE
TZID:Europe/Paris
BEGIN:DAYLIGHT
TZOFFSETFROM:+0100
TZOFFSETTO:+0200
TZNAME:CEST
DTSTART:20240331T010000
END:DAYLIGHT
BEGIN:STANDARD
TZOFFSETFROM:+0200
TZOFFSETTO:+0100
TZNAME:CET
DTSTART:20241027T010000
END:STANDARD
BEGIN:DAYLIGHT
TZOFFSETFROM:+0100
TZOFFSETTO:+0200
TZNAME:CEST
DTSTART:20250330T010000
END:DAYLIGHT
BEGIN:STANDARD
TZOFFSETFROM:+0200
TZOFFSETTO:+0100
TZNAME:CET
DTSTART:20251026T010000
END:STANDARD
BEGIN:DAYLIGHT
TZOFFSETFROM:+0100
TZOFFSETTO:+0200
TZNAME:CEST
DTSTART:20260329T010000
END:DAYLIGHT
BEGIN:STANDARD
TZOFFSETFROM:+0200
TZOFFSETTO:+0100
TZNAME:CET
DTSTART:20261025T010000
END:STANDARD
END:VTIMEZONE
BEGIN:VEVENT
DTSTART;VALUE=DATE:20251112
DTEND;VALUE=DATE:20251113
DTSTAMP:20260421T120135
CREATED:20251106T155812Z
LAST-MODIFIED:20251106T155919Z
UID:2935-1762905600-1762991999@www.mairie-nampontstmartin.fr
SUMMARY:Séance bien-être pour les aidants
DESCRIPTION:
URL:https://www.mairie-nampontstmartin.fr/event/seance-bien-etre-pour-les-aidants/
LOCATION:Estrée-lès-Crécy\, Eglise\, 80150
CATEGORIES:Information
ATTACH;FMTTYPE=image/jpeg:https://www.mairie-nampontstmartin.fr/wp-content/uploads/2025/11/pdf-def-seances-aidants-estrees-les-crecy-yogapassion-nov25-1_page-0001.jpg
ORGANIZER;CN="Conseil D%C3%A9partemental de la Somme":MAILTO:claudia@yogapassion.fr
END:VEVENT
END:VCALENDAR