BEGIN:VCALENDAR
VERSION:2.0
PRODID:-//Commune de Nampont-Saint-Martin - ECPv6.15.20//NONSGML v1.0//EN
CALSCALE:GREGORIAN
METHOD:PUBLISH
X-ORIGINAL-URL:https://www.mairie-nampontstmartin.fr
X-WR-CALDESC:Évènements pour Commune de Nampont-Saint-Martin
REFRESH-INTERVAL;VALUE=DURATION:PT1H
X-Robots-Tag:noindex
X-PUBLISHED-TTL:PT1H
BEGIN:VTIMEZONE
TZID:Europe/Paris
BEGIN:DAYLIGHT
TZOFFSETFROM:+0100
TZOFFSETTO:+0200
TZNAME:CEST
DTSTART:20240331T010000
END:DAYLIGHT
BEGIN:STANDARD
TZOFFSETFROM:+0200
TZOFFSETTO:+0100
TZNAME:CET
DTSTART:20241027T010000
END:STANDARD
BEGIN:DAYLIGHT
TZOFFSETFROM:+0100
TZOFFSETTO:+0200
TZNAME:CEST
DTSTART:20250330T010000
END:DAYLIGHT
BEGIN:STANDARD
TZOFFSETFROM:+0200
TZOFFSETTO:+0100
TZNAME:CET
DTSTART:20251026T010000
END:STANDARD
BEGIN:DAYLIGHT
TZOFFSETFROM:+0100
TZOFFSETTO:+0200
TZNAME:CEST
DTSTART:20260329T010000
END:DAYLIGHT
BEGIN:STANDARD
TZOFFSETFROM:+0200
TZOFFSETTO:+0100
TZNAME:CET
DTSTART:20261025T010000
END:STANDARD
END:VTIMEZONE
BEGIN:VEVENT
DTSTART;TZID=Europe/Paris:20250329T100000
DTEND;TZID=Europe/Paris:20250330T180000
DTSTAMP:20260422T025433
CREATED:20250320T082251Z
LAST-MODIFIED:20250320T082251Z
UID:2160-1743242400-1743357600@www.mairie-nampontstmartin.fr
SUMMARY:Salon du Modélisme
DESCRIPTION:
URL:https://www.mairie-nampontstmartin.fr/event/salon-du-modelisme/
LOCATION:Nouvion\, 8 bis rue du Collège\, Nouvion
CATEGORIES:Culture,Information
ATTACH;FMTTYPE=image/jpeg:https://www.mairie-nampontstmartin.fr/wp-content/uploads/2025/03/SKM_C250i25032009090-scaled.jpg
END:VEVENT
BEGIN:VEVENT
DTSTART;TZID=Europe/Paris:20250329T170000
DTEND;TZID=Europe/Paris:20250329T210000
DTSTAMP:20260422T025433
CREATED:20250310T100338Z
LAST-MODIFIED:20250310T100338Z
UID:2141-1743267600-1743282000@www.mairie-nampontstmartin.fr
SUMMARY:Audition des élèves de l'école de musique intercommunale
DESCRIPTION:
URL:https://www.mairie-nampontstmartin.fr/event/audition-des-eleves-de-lecole-de-musique-intercommunale/
LOCATION:Bussus-lès-Yaucourt\, Salle " La Tondelière "
CATEGORIES:Culture
ATTACH;FMTTYPE=image/jpeg:https://www.mairie-nampontstmartin.fr/wp-content/uploads/2025/03/CULTURE-ecole-de-musique-auditions-2025-Affiche-compressee_page-00011.jpg
END:VEVENT
END:VCALENDAR