BEGIN:VCALENDAR
VERSION:2.0
PRODID:-//Commune de Nampont-Saint-Martin - ECPv6.15.20//NONSGML v1.0//EN
CALSCALE:GREGORIAN
METHOD:PUBLISH
X-WR-CALNAME:Commune de Nampont-Saint-Martin
X-ORIGINAL-URL:https://www.mairie-nampontstmartin.fr
X-WR-CALDESC:Évènements pour Commune de Nampont-Saint-Martin
REFRESH-INTERVAL;VALUE=DURATION:PT1H
X-Robots-Tag:noindex
X-PUBLISHED-TTL:PT1H
BEGIN:VTIMEZONE
TZID:Europe/Paris
BEGIN:DAYLIGHT
TZOFFSETFROM:+0100
TZOFFSETTO:+0200
TZNAME:CEST
DTSTART:20220327T010000
END:DAYLIGHT
BEGIN:STANDARD
TZOFFSETFROM:+0200
TZOFFSETTO:+0100
TZNAME:CET
DTSTART:20221030T010000
END:STANDARD
BEGIN:DAYLIGHT
TZOFFSETFROM:+0100
TZOFFSETTO:+0200
TZNAME:CEST
DTSTART:20230326T010000
END:DAYLIGHT
BEGIN:STANDARD
TZOFFSETFROM:+0200
TZOFFSETTO:+0100
TZNAME:CET
DTSTART:20231029T010000
END:STANDARD
BEGIN:DAYLIGHT
TZOFFSETFROM:+0100
TZOFFSETTO:+0200
TZNAME:CEST
DTSTART:20240331T010000
END:DAYLIGHT
BEGIN:STANDARD
TZOFFSETFROM:+0200
TZOFFSETTO:+0100
TZNAME:CET
DTSTART:20241027T010000
END:STANDARD
END:VTIMEZONE
BEGIN:VEVENT
DTSTART;TZID=Europe/Paris:20230318T100000
DTEND;TZID=Europe/Paris:20230318T130000
DTSTAMP:20260423T181109
CREATED:20230309T144913Z
LAST-MODIFIED:20230309T145900Z
UID:937-1679133600-1679144400@www.mairie-nampontstmartin.fr
SUMMARY:Hauts-de-France propres !
DESCRIPTION:Venez participer au nettoyage de votre commune\, le samedi 18 mars à partir de 10h. \nRendez-vous au parking de la mairie.
URL:https://www.mairie-nampontstmartin.fr/event/hauts-de-france-propres/
CATEGORIES:Environnement
ATTACH;FMTTYPE=image/jpeg:https://www.mairie-nampontstmartin.fr/wp-content/uploads/2023/03/HDFPROPRES_HEADER_FB_851x315_V3.jpg
END:VEVENT
END:VCALENDAR