BEGIN:VCALENDAR
VERSION:2.0
PRODID:-//Commune de Nampont-Saint-Martin - ECPv6.15.20//NONSGML v1.0//EN
CALSCALE:GREGORIAN
METHOD:PUBLISH
X-ORIGINAL-URL:https://www.mairie-nampontstmartin.fr
X-WR-CALDESC:Évènements pour Commune de Nampont-Saint-Martin
REFRESH-INTERVAL;VALUE=DURATION:PT1H
X-Robots-Tag:noindex
X-PUBLISHED-TTL:PT1H
BEGIN:VTIMEZONE
TZID:Europe/Paris
BEGIN:DAYLIGHT
TZOFFSETFROM:+0100
TZOFFSETTO:+0200
TZNAME:CEST
DTSTART:20220327T010000
END:DAYLIGHT
BEGIN:STANDARD
TZOFFSETFROM:+0200
TZOFFSETTO:+0100
TZNAME:CET
DTSTART:20221030T010000
END:STANDARD
BEGIN:DAYLIGHT
TZOFFSETFROM:+0100
TZOFFSETTO:+0200
TZNAME:CEST
DTSTART:20230326T010000
END:DAYLIGHT
BEGIN:STANDARD
TZOFFSETFROM:+0200
TZOFFSETTO:+0100
TZNAME:CET
DTSTART:20231029T010000
END:STANDARD
BEGIN:DAYLIGHT
TZOFFSETFROM:+0100
TZOFFSETTO:+0200
TZNAME:CEST
DTSTART:20240331T010000
END:DAYLIGHT
BEGIN:STANDARD
TZOFFSETFROM:+0200
TZOFFSETTO:+0100
TZNAME:CET
DTSTART:20241027T010000
END:STANDARD
END:VTIMEZONE
BEGIN:VEVENT
DTSTART;TZID=Europe/Paris:20231014T133000
DTEND;TZID=Europe/Paris:20231014T170000
DTSTAMP:20260421T215902
CREATED:20230928T090027Z
LAST-MODIFIED:20230928T090027Z
UID:1531-1697290200-1697302800@www.mairie-nampontstmartin.fr
SUMMARY:Fête de la science !
DESCRIPTION:
URL:https://www.mairie-nampontstmartin.fr/event/fete-de-la-science/
LOCATION:Bussus-Bussuel
CATEGORIES:Festivité
ATTACH;FMTTYPE=image/jpeg:https://www.mairie-nampontstmartin.fr/wp-content/uploads/2023/09/SKM_C250i23092608150-scaled.jpg
END:VEVENT
BEGIN:VEVENT
DTSTART;TZID=Europe/Paris:20231017T120000
DTEND;TZID=Europe/Paris:20231017T170000
DTSTAMP:20260421T215902
CREATED:20230919T100739Z
LAST-MODIFIED:20230919T100739Z
UID:1513-1697544000-1697562000@www.mairie-nampontstmartin.fr
SUMMARY:Le Club de la Détente organise un repas d'automne !
DESCRIPTION:
URL:https://www.mairie-nampontstmartin.fr/event/le-club-de-la-detente-organise-un-repas-dautomne/
CATEGORIES:Festivité
ATTACH;FMTTYPE=image/jpeg:https://www.mairie-nampontstmartin.fr/wp-content/uploads/2023/09/SKM_C250i23091910590-scaled.jpg
END:VEVENT
BEGIN:VEVENT
DTSTART;TZID=Europe/Paris:20231028T100000
DTEND;TZID=Europe/Paris:20231028T170000
DTSTAMP:20260421T215902
CREATED:20231005T110422Z
LAST-MODIFIED:20231005T110422Z
UID:1536-1698487200-1698512400@www.mairie-nampontstmartin.fr
SUMMARY:Salon du livre
DESCRIPTION:
URL:https://www.mairie-nampontstmartin.fr/event/salon-du-livre/
LOCATION:Salle du casino\, Place Gilbert Gaffet\, Crécy-en-Ponthieu\, 80150\, France
CATEGORIES:Festivité
ATTACH;FMTTYPE=image/jpeg:https://www.mairie-nampontstmartin.fr/wp-content/uploads/2023/10/SKM_C250i23100511530-scaled.jpg
END:VEVENT
END:VCALENDAR