BEGIN:VCALENDAR
VERSION:2.0
PRODID:-//Commune de Nampont-Saint-Martin - ECPv6.15.20//NONSGML v1.0//EN
CALSCALE:GREGORIAN
METHOD:PUBLISH
X-ORIGINAL-URL:https://www.mairie-nampontstmartin.fr
X-WR-CALDESC:Évènements pour Commune de Nampont-Saint-Martin
REFRESH-INTERVAL;VALUE=DURATION:PT1H
X-Robots-Tag:noindex
X-PUBLISHED-TTL:PT1H
BEGIN:VTIMEZONE
TZID:Europe/Paris
BEGIN:DAYLIGHT
TZOFFSETFROM:+0100
TZOFFSETTO:+0200
TZNAME:CEST
DTSTART:20230326T010000
END:DAYLIGHT
BEGIN:STANDARD
TZOFFSETFROM:+0200
TZOFFSETTO:+0100
TZNAME:CET
DTSTART:20231029T010000
END:STANDARD
BEGIN:DAYLIGHT
TZOFFSETFROM:+0100
TZOFFSETTO:+0200
TZNAME:CEST
DTSTART:20240331T010000
END:DAYLIGHT
BEGIN:STANDARD
TZOFFSETFROM:+0200
TZOFFSETTO:+0100
TZNAME:CET
DTSTART:20241027T010000
END:STANDARD
BEGIN:DAYLIGHT
TZOFFSETFROM:+0100
TZOFFSETTO:+0200
TZNAME:CEST
DTSTART:20250330T010000
END:DAYLIGHT
BEGIN:STANDARD
TZOFFSETFROM:+0200
TZOFFSETTO:+0100
TZNAME:CET
DTSTART:20251026T010000
END:STANDARD
END:VTIMEZONE
BEGIN:VEVENT
DTSTART;TZID=Europe/Paris:20241109T193000
DTEND;TZID=Europe/Paris:20241109T233000
DTSTAMP:20260420T062235
CREATED:20241003T134553Z
LAST-MODIFIED:20241003T134553Z
UID:1838-1731180600-1731195000@www.mairie-nampontstmartin.fr
SUMMARY:Soirée couscous\, organisé par le Comité des Fêtes de Nempont-Saint-Firmin
DESCRIPTION:
URL:https://www.mairie-nampontstmartin.fr/event/soiree-couscous-organise-par-le-comite-des-fetes-de-nempont-saint-firmin/
LOCATION:Salle des fêtes de Wailly Beaucamp\, rue des Bocquets\, Wailly-Beaucamp\, 62170\, France
CATEGORIES:Festivité
END:VEVENT
BEGIN:VEVENT
DTSTART;TZID=Europe/Paris:20241130T190000
DTEND;TZID=Europe/Paris:20241130T233000
DTSTAMP:20260420T062235
CREATED:20241028T143829Z
LAST-MODIFIED:20241028T143829Z
UID:1871-1732993200-1733009400@www.mairie-nampontstmartin.fr
SUMMARY:Soirée couscous\, organisé par le Comité des Fêtes de Nampont-Saint-Martin
DESCRIPTION:
URL:https://www.mairie-nampontstmartin.fr/event/soiree-couscous-organise-par-le-comite-des-fetes-de-nampont-saint-martin/
LOCATION:Salle Polyvalente
CATEGORIES:Festivité
END:VEVENT
END:VCALENDAR