BEGIN:VCALENDAR
VERSION:2.0
PRODID:-//Commune de Nampont-Saint-Martin - ECPv6.15.20//NONSGML v1.0//EN
CALSCALE:GREGORIAN
METHOD:PUBLISH
X-ORIGINAL-URL:https://www.mairie-nampontstmartin.fr
X-WR-CALDESC:Évènements pour Commune de Nampont-Saint-Martin
REFRESH-INTERVAL;VALUE=DURATION:PT1H
X-Robots-Tag:noindex
X-PUBLISHED-TTL:PT1H
BEGIN:VTIMEZONE
TZID:Europe/Paris
BEGIN:DAYLIGHT
TZOFFSETFROM:+0100
TZOFFSETTO:+0200
TZNAME:CEST
DTSTART:20240331T010000
END:DAYLIGHT
BEGIN:STANDARD
TZOFFSETFROM:+0200
TZOFFSETTO:+0100
TZNAME:CET
DTSTART:20241027T010000
END:STANDARD
BEGIN:DAYLIGHT
TZOFFSETFROM:+0100
TZOFFSETTO:+0200
TZNAME:CEST
DTSTART:20250330T010000
END:DAYLIGHT
BEGIN:STANDARD
TZOFFSETFROM:+0200
TZOFFSETTO:+0100
TZNAME:CET
DTSTART:20251026T010000
END:STANDARD
BEGIN:DAYLIGHT
TZOFFSETFROM:+0100
TZOFFSETTO:+0200
TZNAME:CEST
DTSTART:20260329T010000
END:DAYLIGHT
BEGIN:STANDARD
TZOFFSETFROM:+0200
TZOFFSETTO:+0100
TZNAME:CET
DTSTART:20261025T010000
END:STANDARD
END:VTIMEZONE
BEGIN:VEVENT
DTSTART;TZID=Europe/Paris:20250119T110000
DTEND;TZID=Europe/Paris:20250119T123000
DTSTAMP:20260420T003332
CREATED:20241219T112711Z
LAST-MODIFIED:20241219T112711Z
UID:1973-1737284400-1737289800@www.mairie-nampontstmartin.fr
SUMMARY:Vœux du Maire
DESCRIPTION:
URL:https://www.mairie-nampontstmartin.fr/event/voeux-du-maire-2/
LOCATION:Salle Polyvalente
CATEGORIES:Festivité
ATTACH;FMTTYPE=image/jpeg:https://www.mairie-nampontstmartin.fr/wp-content/uploads/2024/12/INVITATION-VOEUX-DU-MAIRE-2025_page-0001.jpg
END:VEVENT
END:VCALENDAR