BEGIN:VCALENDAR
VERSION:2.0
PRODID:-//Commune de Nampont-Saint-Martin - ECPv6.15.20//NONSGML v1.0//EN
CALSCALE:GREGORIAN
METHOD:PUBLISH
X-WR-CALNAME:Commune de Nampont-Saint-Martin
X-ORIGINAL-URL:https://www.mairie-nampontstmartin.fr
X-WR-CALDESC:Évènements pour Commune de Nampont-Saint-Martin
REFRESH-INTERVAL;VALUE=DURATION:PT1H
X-Robots-Tag:noindex
X-PUBLISHED-TTL:PT1H
BEGIN:VTIMEZONE
TZID:Europe/Paris
BEGIN:DAYLIGHT
TZOFFSETFROM:+0100
TZOFFSETTO:+0200
TZNAME:CEST
DTSTART:20220327T010000
END:DAYLIGHT
BEGIN:STANDARD
TZOFFSETFROM:+0200
TZOFFSETTO:+0100
TZNAME:CET
DTSTART:20221030T010000
END:STANDARD
BEGIN:DAYLIGHT
TZOFFSETFROM:+0100
TZOFFSETTO:+0200
TZNAME:CEST
DTSTART:20230326T010000
END:DAYLIGHT
BEGIN:STANDARD
TZOFFSETFROM:+0200
TZOFFSETTO:+0100
TZNAME:CET
DTSTART:20231029T010000
END:STANDARD
BEGIN:DAYLIGHT
TZOFFSETFROM:+0100
TZOFFSETTO:+0200
TZNAME:CEST
DTSTART:20240331T010000
END:DAYLIGHT
BEGIN:STANDARD
TZOFFSETFROM:+0200
TZOFFSETTO:+0100
TZNAME:CET
DTSTART:20241027T010000
END:STANDARD
END:VTIMEZONE
BEGIN:VEVENT
DTSTART;TZID=Europe/Paris:20230314T120000
DTEND;TZID=Europe/Paris:20230314T160000
DTSTAMP:20260424T003159
CREATED:20230313T110026Z
LAST-MODIFIED:20230313T141759Z
UID:1162-1678795200-1678809600@www.mairie-nampontstmartin.fr
SUMMARY:Repas du club de la détente
DESCRIPTION:Le mardi 14 mars\, le club de la détente organise un repas carbonade à la salle polyvalente
URL:https://www.mairie-nampontstmartin.fr/event/repas-du-club-de-la-detente/
CATEGORIES:Festivité
END:VEVENT
END:VCALENDAR